BEGIN:VCALENDAR
VERSION:2.0
PRODID:-//wp-events-plugin.com//7.2.3.1//EN
TZID:Asia/Tokyo
X-WR-TIMEZONE:Asia/Tokyo
BEGIN:VEVENT
UID:28@yamamo-field.com
DTSTART;TZID=Asia/Tokyo:20250531T100000
DTEND;TZID=Asia/Tokyo:20250531T120000
DTSTAMP:20250521T072240Z
URL:https://yamamo-field.com/events/hanmokku20250531/
SUMMARY:【5月31日(土)開催】ハンモックで森林浴を楽しも
 う！
DESCRIPTION:
END:VEVENT
BEGIN:VTIMEZONE
TZID:Asia/Tokyo
X-LIC-LOCATION:Asia/Tokyo
BEGIN:STANDARD
DTSTART:20240531T100000
TZOFFSETFROM:+0900
TZOFFSETTO:+0900
TZNAME:JST
END:STANDARD
END:VTIMEZONE
END:VCALENDAR