BEGIN:VCALENDAR
VERSION:2.0
PRODID:-//wp-events-plugin.com//7.2.3.1//EN
TZID:Asia/Tokyo
X-WR-TIMEZONE:Asia/Tokyo
BEGIN:VEVENT
UID:51@yamamo-field.com
DTSTART;TZID=Asia/Tokyo:20251026T103000
DTEND;TZID=Asia/Tokyo:20251026T120000
DTSTAMP:20250922T071246Z
URL:https://yamamo-field.com/events/dati20251026/
SUMMARY:【10月26日(日)開催】ダッチオーブンでジビエポト
 フ作り！
DESCRIPTION:
END:VEVENT
BEGIN:VTIMEZONE
TZID:Asia/Tokyo
X-LIC-LOCATION:Asia/Tokyo
BEGIN:STANDARD
DTSTART:20241026T103000
TZOFFSETFROM:+0900
TZOFFSETTO:+0900
TZNAME:JST
END:STANDARD
END:VTIMEZONE
END:VCALENDAR