BEGIN:VCALENDAR
VERSION:2.0
PRODID:-//wp-events-plugin.com//7.2.3.1//EN
TZID:Asia/Tokyo
X-WR-TIMEZONE:Asia/Tokyo
BEGIN:VEVENT
UID:55@yamamo-field.com
DTSTART;TZID=Asia/Tokyo:20251124T100000
DTEND;TZID=Asia/Tokyo:20251124T140000
DTSTAMP:20250930T064345Z
URL:https://yamamo-field.com/events/20251124pizazukuri/
SUMMARY:【11 月24日(月)開催】ピザ窯でピザを焼こう！
DESCRIPTION:
END:VEVENT
BEGIN:VTIMEZONE
TZID:Asia/Tokyo
X-LIC-LOCATION:Asia/Tokyo
BEGIN:STANDARD
DTSTART:20241124T100000
TZOFFSETFROM:+0900
TZOFFSETTO:+0900
TZNAME:JST
END:STANDARD
END:VTIMEZONE
END:VCALENDAR