BEGIN:VCALENDAR
VERSION:2.0
PRODID:-//wp-events-plugin.com//7.2.3.1//EN
TZID:Asia/Tokyo
X-WR-TIMEZONE:Asia/Tokyo
BEGIN:VEVENT
UID:57@yamamo-field.com
DTSTART;TZID=Asia/Tokyo:20251122T183000
DTEND;TZID=Asia/Tokyo:20251122T193000
DTSTAMP:20251027T054256Z
URL:https://yamamo-field.com/events/20251122hoshizora/
SUMMARY:【11月22日（土）開催】星空教室
DESCRIPTION:
END:VEVENT
BEGIN:VTIMEZONE
TZID:Asia/Tokyo
X-LIC-LOCATION:Asia/Tokyo
BEGIN:STANDARD
DTSTART:20241122T183000
TZOFFSETFROM:+0900
TZOFFSETTO:+0900
TZNAME:JST
END:STANDARD
END:VTIMEZONE
END:VCALENDAR