BEGIN:VCALENDAR
VERSION:2.0
PRODID:-//wp-events-plugin.com//7.2.3.1//EN
TZID:Asia/Tokyo
X-WR-TIMEZONE:Asia/Tokyo
BEGIN:VEVENT
UID:25@yamamo-field.com
DTSTART;TZID=Asia/Tokyo:20250719T100000
DTEND;TZID=Asia/Tokyo:20250719T113000
DTSTAMP:20250625T072038Z
URL:https://yamamo-field.com/events/20250719ba-doko-ru/
SUMMARY:【7月19日(土)開催】バードコールを作ってみよう
 ！
DESCRIPTION:
END:VEVENT
BEGIN:VTIMEZONE
TZID:Asia/Tokyo
X-LIC-LOCATION:Asia/Tokyo
BEGIN:STANDARD
DTSTART:20240719T100000
TZOFFSETFROM:+0900
TZOFFSETTO:+0900
TZNAME:JST
END:STANDARD
END:VTIMEZONE
END:VCALENDAR