BEGIN:VCALENDAR
VERSION:2.0
PRODID:-//wp-events-plugin.com//7.2.3.1//EN
TZID:Asia/Tokyo
X-WR-TIMEZONE:Asia/Tokyo
BEGIN:VEVENT
UID:35@yamamo-field.com
DTSTART;TZID=Asia/Tokyo:20250712T100000
DTEND;TZID=Asia/Tokyo:20250712T150000
DTSTAMP:20250618T011556Z
URL:https://yamamo-field.com/events/20250712haikingu/
SUMMARY:【7月12日（土）開催】桜沢林道を歩こう！
DESCRIPTION:
END:VEVENT
BEGIN:VTIMEZONE
TZID:Asia/Tokyo
X-LIC-LOCATION:Asia/Tokyo
BEGIN:STANDARD
DTSTART:20240712T100000
TZOFFSETFROM:+0900
TZOFFSETTO:+0900
TZNAME:JST
END:STANDARD
END:VTIMEZONE
END:VCALENDAR