BEGIN:VCALENDAR
VERSION:2.0
PRODID:-//wp-events-plugin.com//7.2.3.1//EN
TZID:Asia/Tokyo
X-WR-TIMEZONE:Asia/Tokyo
BEGIN:VEVENT
UID:32@yamamo-field.com
DTSTART;TZID=Asia/Tokyo:20250615T100000
DTEND;TZID=Asia/Tokyo:20250615T130000
DTSTAMP:20250815T100019Z
URL:https://yamamo-field.com/events/20250616hituke/
SUMMARY:【6月15日(日)開催】まいぎり式の火付け体験 & お
 米を炊いてみよう&#x1f356\;
DESCRIPTION:
END:VEVENT
BEGIN:VTIMEZONE
TZID:Asia/Tokyo
X-LIC-LOCATION:Asia/Tokyo
BEGIN:STANDARD
DTSTART:20240615T100000
TZOFFSETFROM:+0900
TZOFFSETTO:+0900
TZNAME:JST
END:STANDARD
END:VTIMEZONE
END:VCALENDAR