BEGIN:VCALENDAR
VERSION:2.0
PRODID:-//wp-events-plugin.com//7.2.3.1//EN
TZID:Asia/Tokyo
X-WR-TIMEZONE:Asia/Tokyo
BEGIN:VEVENT
UID:10@yamamo-field.com
DTSTART;TZID=Asia/Tokyo:20250316T100000
DTEND;TZID=Asia/Tokyo:20250316T120000
DTSTAMP:20250307T014436Z
URL:https://yamamo-field.com/events/2025-03-16/
SUMMARY:【3月16日（日）開催】シャボン玉遊びをしよう！
DESCRIPTION:
END:VEVENT
BEGIN:VTIMEZONE
TZID:Asia/Tokyo
X-LIC-LOCATION:Asia/Tokyo
BEGIN:STANDARD
DTSTART:20240316T100000
TZOFFSETFROM:+0900
TZOFFSETTO:+0900
TZNAME:JST
END:STANDARD
END:VTIMEZONE
END:VCALENDAR