BEGIN:VCALENDAR
VERSION:2.0
PRODID:-//wp-events-plugin.com//7.2.3.1//EN
TZID:Asia/Tokyo
X-WR-TIMEZONE:Asia/Tokyo
BEGIN:VEVENT
UID:5@yamamo-field.com
DTSTART;TZID=Asia/Tokyo:20250213T193000
DTEND;TZID=Asia/Tokyo:20250228T200000
DTSTAMP:20250214T052558Z
URL:https://yamamo-field.com/events/%e5%a4%a7%e6%b5%b4%e5%a0%b4%e3%81%a7%e
 3%83%aa%e3%83%a9%e3%83%83%e3%82%af%e3%82%b9%e3%81%97%e3%82%88%e3%81%86%ef%
 bc%9c%e7%94%b3%e3%81%97%e8%be%bc%e3%81%bf%e3%83%95%e3%82%a9%e3%83%bc%e3%83
 %a0%ef%bc%9e/
SUMMARY:大浴場でリラックスしよう＜申し込みフォーム＞
 （サンプル）
DESCRIPTION:
END:VEVENT
BEGIN:VTIMEZONE
TZID:Asia/Tokyo
X-LIC-LOCATION:Asia/Tokyo
BEGIN:STANDARD
DTSTART:20240214T193000
TZOFFSETFROM:+0900
TZOFFSETTO:+0900
TZNAME:JST
END:STANDARD
END:VTIMEZONE
END:VCALENDAR