BEGIN:VCALENDAR
VERSION:2.0
PRODID:-//wp-events-plugin.com//7.2.3.1//EN
TZID:Asia/Tokyo
X-WR-TIMEZONE:Asia/Tokyo
BEGIN:VEVENT
UID:46@yamamo-field.com
DTSTART;TZID=Asia/Tokyo:20250920T190000
DTEND;TZID=Asia/Tokyo:20250920T200000
DTSTAMP:20250815T032256Z
URL:https://yamamo-field.com/events/%e3%80%909%e6%9c%8820%e6%97%a5%e5%9c%9
 f%e9%96%8b%e5%82%ac%e3%80%91%e6%98%9f%e7%a9%ba%e6%95%99%e5%ae%a4/
SUMMARY:【9月20日(土)開催】星空教室
DESCRIPTION:
END:VEVENT
BEGIN:VTIMEZONE
TZID:Asia/Tokyo
X-LIC-LOCATION:Asia/Tokyo
BEGIN:STANDARD
DTSTART:20240920T190000
TZOFFSETFROM:+0900
TZOFFSETTO:+0900
TZNAME:JST
END:STANDARD
END:VTIMEZONE
END:VCALENDAR